BEGIN:VCALENDAR
VERSION:2.0
PRODID:-//Áit Ait - ECPv6.15.20//NONSGML v1.0//EN
CALSCALE:GREGORIAN
METHOD:PUBLISH
X-WR-CALNAME:Áit Ait
X-ORIGINAL-URL:https://www.aitait.com
X-WR-CALDESC:Events for Áit Ait
REFRESH-INTERVAL;VALUE=DURATION:PT1H
X-Robots-Tag:noindex
X-PUBLISHED-TTL:PT1H
BEGIN:VTIMEZONE
TZID:UTC
BEGIN:STANDARD
TZOFFSETFROM:+0000
TZOFFSETTO:+0000
TZNAME:UTC
DTSTART:20230101T000000
END:STANDARD
END:VTIMEZONE
BEGIN:VEVENT
DTSTART;TZID=UTC:20240527T193000
DTEND;TZID=UTC:20240527T220000
DTSTAMP:20260424T190847
CREATED:20240507T180229Z
LAST-MODIFIED:20240507T180229Z
UID:596-1716838200-1716847200@www.aitait.com
SUMMARY:World Music Monday
DESCRIPTION:We’ll be playing at the Fraternal Order of the Eagles #34 on World Music Monday. Hosted by the Other Country Ensemble.
URL:https://www.aitait.com/event/world-music-monday/
LOCATION:Eagles Club #34\, 2507 E 25th Street South\, Minneapolis\, Minnesota\, United States
END:VEVENT
END:VCALENDAR