BEGIN:VCALENDAR
VERSION:2.0
PRODID:-//Áit Ait - ECPv6.15.20//NONSGML v1.0//EN
CALSCALE:GREGORIAN
METHOD:PUBLISH
X-ORIGINAL-URL:https://www.aitait.com
X-WR-CALDESC:Events for Áit Ait
REFRESH-INTERVAL;VALUE=DURATION:PT1H
X-Robots-Tag:noindex
X-PUBLISHED-TTL:PT1H
BEGIN:VTIMEZONE
TZID:UTC
BEGIN:STANDARD
TZOFFSETFROM:+0000
TZOFFSETTO:+0000
TZNAME:UTC
DTSTART:20240101T000000
END:STANDARD
END:VTIMEZONE
BEGIN:VEVENT
DTSTART;TZID=UTC:20250628T080000
DTEND;TZID=UTC:20250628T230000
DTSTAMP:20260424T000113
CREATED:20241209T161331Z
LAST-MODIFIED:20241209T161417Z
UID:633-1751097600-1751151600@www.aitait.com
SUMMARY:Folkerday Festival - Ratingen\, Germany
DESCRIPTION:We’re super excited to play at this years Folkerday Festival in Ratingen\, Germany! We’re busy setting up a few more dates in Europe.
URL:https://www.aitait.com/event/folkerday-festival-ratingen-germany/
END:VEVENT
END:VCALENDAR