BEGIN:VCALENDAR
VERSION:2.0
PRODID:-//Áit Ait - ECPv6.15.20//NONSGML v1.0//EN
CALSCALE:GREGORIAN
METHOD:PUBLISH
X-WR-CALNAME:Áit Ait
X-ORIGINAL-URL:https://www.aitait.com
X-WR-CALDESC:Events for Áit Ait
REFRESH-INTERVAL;VALUE=DURATION:PT1H
X-Robots-Tag:noindex
X-PUBLISHED-TTL:PT1H
BEGIN:VTIMEZONE
TZID:UTC
BEGIN:STANDARD
TZOFFSETFROM:+0000
TZOFFSETTO:+0000
TZNAME:UTC
DTSTART:20240101T000000
END:STANDARD
END:VTIMEZONE
BEGIN:VEVENT
DTSTART;TZID=UTC:20251017T190000
DTEND;TZID=UTC:20251113T230000
DTSTAMP:20260423T150502
CREATED:20251017T160517Z
LAST-MODIFIED:20251017T160517Z
UID:725-1760727600-1763074800@www.aitait.com
SUMMARY:Envelop Deep Listening Series with Senescene & Jesse Whitney
DESCRIPTION:
URL:https://www.aitait.com/event/envelop-deep-listening-series-with-senescene-jesse-whitney/
LOCATION:Mirror Lab\, 3400 Cedar Ave. S\, Minneapolis\, MN\, 55407\, United States
END:VEVENT
END:VCALENDAR