BEGIN:VCALENDAR
VERSION:2.0
PRODID:-//Áit Ait - ECPv6.15.20//NONSGML v1.0//EN
CALSCALE:GREGORIAN
METHOD:PUBLISH
X-ORIGINAL-URL:https://www.aitait.com
X-WR-CALDESC:Events for Áit Ait
REFRESH-INTERVAL;VALUE=DURATION:PT1H
X-Robots-Tag:noindex
X-PUBLISHED-TTL:PT1H
BEGIN:VTIMEZONE
TZID:UTC
BEGIN:STANDARD
TZOFFSETFROM:+0000
TZOFFSETTO:+0000
TZNAME:UTC
DTSTART:20230101T000000
END:STANDARD
END:VTIMEZONE
BEGIN:VEVENT
DTSTART;TZID=UTC:20240316T203000
DTEND;TZID=UTC:20240316T233000
DTSTAMP:20260425T014244
CREATED:20231213T195535Z
LAST-MODIFIED:20240206T173636Z
UID:376-1710621000-1710631800@www.aitait.com
SUMMARY:In the Mission Room at the Hook and Ladder with Superior Siren & Anothernight
DESCRIPTION:Join us for an evening of amazing music. We’re really looking forward to this one. \n  \n \n 
URL:https://www.aitait.com/event/st-patricks-day-in-the-mission-room/
LOCATION:The Hook & Ladder\, 3010 Minnehaha Ave.\, Saint Paul\, MN\, 55406\, United States
END:VEVENT
BEGIN:VEVENT
DTSTART;TZID=UTC:20240323T190000
DTEND;TZID=UTC:20240323T233000
DTSTAMP:20260425T014244
CREATED:20231026T231524Z
LAST-MODIFIED:20240206T173613Z
UID:292-1711220400-1711236600@www.aitait.com
SUMMARY:St. Patrick's Day with Boiled in Lead at the Parkway
DESCRIPTION:Live at the Parkway Theater. 40 Years of Rock ‘n’ Reel with Boiled in Lead featuring Áit Ait and the Brian Boru Irish Pipe Band. \n  \nSponsored by KFAI Radio \nSaturday\, March 23\, 2024 \n7 pm Doors // 8 pm Music \n$25 (+taxes/fees) Advance General Admission // $30 (+taxes/fees) At The Door \nAll Ages \nTicket purchases are final and non-refundable \n 
URL:https://www.aitait.com/event/st-patricks-day-with-boiled-in-lead/
LOCATION:The Parkway Theater\, 4814 Chicago Ave\, Minneapolis\, 55417\, United States
END:VEVENT
END:VCALENDAR