BEGIN:VCALENDAR
VERSION:2.0
PRODID:-//Áit Ait - ECPv6.15.20//NONSGML v1.0//EN
CALSCALE:GREGORIAN
METHOD:PUBLISH
X-ORIGINAL-URL:https://www.aitait.com
X-WR-CALDESC:Events for Áit Ait
REFRESH-INTERVAL;VALUE=DURATION:PT1H
X-Robots-Tag:noindex
X-PUBLISHED-TTL:PT1H
BEGIN:VTIMEZONE
TZID:UTC
BEGIN:STANDARD
TZOFFSETFROM:+0000
TZOFFSETTO:+0000
TZNAME:UTC
DTSTART:20230101T000000
END:STANDARD
END:VTIMEZONE
BEGIN:VEVENT
DTSTART;TZID=UTC:20240721T200000
DTEND;TZID=UTC:20240721T233000
DTSTAMP:20260424T155259
CREATED:20240716T230108Z
LAST-MODIFIED:20240716T230108Z
UID:614-1721592000-1721604600@www.aitait.com
SUMMARY:Live at Mort's with Ghost Kitchen and Color Chord
DESCRIPTION:
URL:https://www.aitait.com/event/live-at-morts-with-ghost-kitchen-and-color-chord/
LOCATION:Mortimer’s\, 2001 Lyndale Ave. S.\, Minneapolis\, MN\, 55405\, United States
ATTACH;FMTTYPE=image/jpeg:https://www.aitait.com/wp-content/uploads/2024/07/C7AA34DD-FEBA-4C7B-9E05-3C7F4479ADD0.jpg
END:VEVENT
END:VCALENDAR