BEGIN:VCALENDAR
VERSION:2.0
PRODID:-//Áit Ait - ECPv6.15.20//NONSGML v1.0//EN
CALSCALE:GREGORIAN
METHOD:PUBLISH
X-ORIGINAL-URL:https://www.aitait.com
X-WR-CALDESC:Events for Áit Ait
REFRESH-INTERVAL;VALUE=DURATION:PT1H
X-Robots-Tag:noindex
X-PUBLISHED-TTL:PT1H
BEGIN:VTIMEZONE
TZID:UTC
BEGIN:STANDARD
TZOFFSETFROM:+0000
TZOFFSETTO:+0000
TZNAME:UTC
DTSTART:20230101T000000
END:STANDARD
END:VTIMEZONE
BEGIN:VEVENT
DTSTART;TZID=UTC:20241104T200000
DTEND;TZID=UTC:20241104T233000
DTSTAMP:20260424T090818
CREATED:20241014T195326Z
LAST-MODIFIED:20241014T195326Z
UID:625-1730750400-1730763000@www.aitait.com
SUMMARY:Live at the White Squirrel with Moth Obsidian and SYFN.
DESCRIPTION:
URL:https://www.aitait.com/event/live-at-the-white-squirrel-with-moth-obsidian-and-syfn/
LOCATION:The White Squirrel Bar\, 974 West Seventh Street\, Saint Paul\, MN\, 55102\, United States
END:VEVENT
END:VCALENDAR