BEGIN:VCALENDAR
VERSION:2.0
PRODID:-//Áit Ait - ECPv6.15.20//NONSGML v1.0//EN
CALSCALE:GREGORIAN
METHOD:PUBLISH
X-WR-CALNAME:Áit Ait
X-ORIGINAL-URL:https://www.aitait.com
X-WR-CALDESC:Events for Áit Ait
REFRESH-INTERVAL;VALUE=DURATION:PT1H
X-Robots-Tag:noindex
X-PUBLISHED-TTL:PT1H
BEGIN:VTIMEZONE
TZID:UTC
BEGIN:STANDARD
TZOFFSETFROM:+0000
TZOFFSETTO:+0000
TZNAME:UTC
DTSTART:20250101T000000
END:STANDARD
END:VTIMEZONE
BEGIN:VEVENT
DTSTART;TZID=UTC:20260303T200000
DTEND;TZID=UTC:20260303T230000
DTSTAMP:20260421T093046
CREATED:20251017T160628Z
LAST-MODIFIED:20251017T160628Z
UID:728-1772568000-1772578800@www.aitait.com
SUMMARY:Áit Ait March Residency at The White Squirrel! Information Coming Soon!
DESCRIPTION:
URL:https://www.aitait.com/event/ait-ait-march-residency-at-the-white-squirrel-information-coming-soon/
LOCATION:The White Squirrel Bar\, 974 West Seventh Street\, Saint Paul\, MN\, 55102\, United States
END:VEVENT
END:VCALENDAR